 
 
BEGIN:VCALENDAR
VERSION:2.0
PRODID:-//Facultatea de Business - ECPv6.10.1//NONSGML v1.0//EN
CALSCALE:GREGORIAN
METHOD:PUBLISH
X-WR-CALNAME:Facultatea de Business
X-ORIGINAL-URL:https://tbs.ubbcluj.ro
X-WR-CALDESC:Events for Facultatea de Business
REFRESH-INTERVAL;VALUE=DURATION:PT1H
X-Robots-Tag:noindex
X-PUBLISHED-TTL:PT1H
BEGIN:VTIMEZONE
TZID:Europe/Bucharest
BEGIN:DAYLIGHT
TZOFFSETFROM:+0200
TZOFFSETTO:+0300
TZNAME:EEST
DTSTART:20260329T010000
END:DAYLIGHT
BEGIN:STANDARD
TZOFFSETFROM:+0300
TZOFFSETTO:+0200
TZNAME:EET
DTSTART:20261025T010000
END:STANDARD
END:VTIMEZONE
BEGIN:VEVENT
DTSTART;TZID=Europe/Bucharest:20260423T130000
DTEND;TZID=Europe/Bucharest:20260423T140000
DTSTAMP:20260423T033757
CREATED:20260422T091253Z
LAST-MODIFIED:20260422T091253Z
UID:7099-1776949200-1776952800@tbs.ubbcluj.ro
SUMMARY:Dezvoltarea carierei prin proiectarea muncii\, sens și implicare
DESCRIPTION:Coordonator: Elisabeta Butoi \nTip:  Eveniment care se desfășoară în timpul activităților didactice ale studenților \nPerioadă: 23.04.2026 / 13-14 \nLocația: Amfiteatru \nParteneri implicați: Sonia Cioara (Ilea) – Learning and Development Manager -Emerson \nStudenți implicați: Anul II AA+AASO+AA-BN \nDescrierea evenimentului: Sarcini\, modelarea jobului\, mentorat & motivație
URL:https://tbs.ubbcluj.ro/event/dezvoltarea-carierei-prin-proiectarea-muncii-sens-si-implicare/
LOCATION:Facultatea de Business\, Horea no. 7\, Cluj-Napoca\, Romania
END:VEVENT
END:VCALENDAR